BEGIN:VCALENDAR
VERSION:2.0
PRODID:-//Friends of Peirce Mill - ECPv6.15.11//NONSGML v1.0//EN
CALSCALE:GREGORIAN
METHOD:PUBLISH
X-WR-CALNAME:Friends of Peirce Mill
X-ORIGINAL-URL:https://www.friendsofpeircemill.org
X-WR-CALDESC:Events for Friends of Peirce Mill
REFRESH-INTERVAL;VALUE=DURATION:PT1H
X-Robots-Tag:noindex
X-PUBLISHED-TTL:PT1H
BEGIN:VTIMEZONE
TZID:America/New_York
BEGIN:DAYLIGHT
TZOFFSETFROM:-0500
TZOFFSETTO:-0400
TZNAME:EDT
DTSTART:20250309T070000
END:DAYLIGHT
BEGIN:STANDARD
TZOFFSETFROM:-0400
TZOFFSETTO:-0500
TZNAME:EST
DTSTART:20251102T060000
END:STANDARD
BEGIN:DAYLIGHT
TZOFFSETFROM:-0500
TZOFFSETTO:-0400
TZNAME:EDT
DTSTART:20260308T070000
END:DAYLIGHT
BEGIN:STANDARD
TZOFFSETFROM:-0400
TZOFFSETTO:-0500
TZNAME:EST
DTSTART:20261101T060000
END:STANDARD
BEGIN:DAYLIGHT
TZOFFSETFROM:-0500
TZOFFSETTO:-0400
TZNAME:EDT
DTSTART:20270314T070000
END:DAYLIGHT
BEGIN:STANDARD
TZOFFSETFROM:-0400
TZOFFSETTO:-0500
TZNAME:EST
DTSTART:20271107T060000
END:STANDARD
END:VTIMEZONE
BEGIN:VEVENT
DTSTART;TZID=America/New_York:20260425T100000
DTEND;TZID=America/New_York:20260425T160000
DTSTAMP:20260421T064056
CREATED:20260403T012436Z
LAST-MODIFIED:20260403T014344Z
UID:7137-1777111200-1777132800@www.friendsofpeircemill.org
SUMMARY:Herring Heroes Obstacle Course
DESCRIPTION:The herring are back\, and so is this fun family event! \nEach spring\, these mighty fish travel upstream from the Chesapeake Bay to Rock Creek\, where they lay their eggs. Come learn about the spring herring migration\, and see if you’re as strong as a fish! \nCan you swim up imaginary rapids and find your way on a Rock Creek balance beam? Go up the fish ladder\, and carry an egg on a spoon? \nAfter you’ve completed the obstacle course\, look for herring swimming past Peirce Mill! \nThis outdoor event is FREE\, no registration required. \nRain date: Sunday\, April 26 \n 
URL:https://www.friendsofpeircemill.org/event/herring-heroes-obstacle-course-26/
LOCATION:Peirce Mill\, 2401 Tilden Street\, NW\, Washington DC
ATTACH;FMTTYPE=image/jpeg:https://www.friendsofpeircemill.org/2016/wp-content/uploads/2026/04/Herring-Heroes-2022-1-e1775179427904.jpg
END:VEVENT
BEGIN:VEVENT
DTSTART;TZID=America/New_York:20260516T100000
DTEND;TZID=America/New_York:20260516T160000
DTSTAMP:20260421T064056
CREATED:20260408T173452Z
LAST-MODIFIED:20260408T173452Z
UID:7162-1778925600-1778947200@www.friendsofpeircemill.org
SUMMARY:Historic Trades Festival
DESCRIPTION:SAVE THE DATE: Saturday\, May 16\nfor our first-ever Historic Trades Festival at Peirce Mill!\nLearn about the historic trades used to build and run Peirce Mill in the 19th century. This free festival will feature demonstrations and hands-on activities for visitors of all ages\, including: \nBasketry\nBlacksmithing\nCooperage\nMilling\nOrchardry\nRope Making\nStone Carving\nWeaving \nAnd purchase locally milled products at:\nFRESHFARM Mid-Atlantic Grain Stand\nRavenHook Bakehouse Pop-Up Shop \nRain date: Sunday\, May 17
URL:https://www.friendsofpeircemill.org/event/historic-trades-festival/
LOCATION:Peirce Mill\, 2401 Tilden Street\, NW\, Washington DC
CATEGORIES:Arts and Crafts,Demonstration,Family Program
ATTACH;FMTTYPE=image/jpeg:https://www.friendsofpeircemill.org/2016/wp-content/uploads/2026/04/Bethany-and-Stonecarvers-scaled-e1775667815421.jpg
END:VEVENT
END:VCALENDAR